BEGIN:VCALENDAR
VERSION:2.0
PRODID:-//Approach Autism Society - ECPv6.13.2.1//NONSGML v1.0//EN
CALSCALE:GREGORIAN
METHOD:PUBLISH
X-WR-CALNAME:Approach Autism Society
X-ORIGINAL-URL:https://approachautism.in
X-WR-CALDESC:Events for Approach Autism Society
REFRESH-INTERVAL;VALUE=DURATION:PT1H
X-Robots-Tag:noindex
X-PUBLISHED-TTL:PT1H
BEGIN:VTIMEZONE
TZID:UTC
BEGIN:STANDARD
TZOFFSETFROM:+0000
TZOFFSETTO:+0000
TZNAME:UTC
DTSTART:20240101T000000
END:STANDARD
END:VTIMEZONE
BEGIN:VEVENT
DTSTART;TZID=UTC:20250713T110000
DTEND;TZID=UTC:20250713T123000
DTSTAMP:20260420T191309
CREATED:20250710T082137Z
LAST-MODIFIED:20250711T073517Z
UID:23081-1752404400-1752409800@approachautism.in
SUMMARY:How to Break Myth!
DESCRIPTION:Imagine a world where individuals with autism don’t just dream of a career but actually build one.\n\n\n\nThat’s why we’ve created EmpowerAbility:  The Digital Employment Training Program\nA launchpad for a brighter\, more inclusive future. This program is not just about learning skills; it’s about building confidence\, providing real-world experience\, and creating a clear pathway to employment in the digital industry. \n\n\n\n\nAt Approach Academy\, we believe that neurodiverse individuals deserve more than just dreams\, they deserve real careers\, independence\, and a future filled with opportunities.\nUnfortunately\, traditional career paths don’t always cater to unique learning styles and strengths\, making it difficult for individuals with autism to find meaningful employment. \n\n\n\n\nClick Below and Fill the form to Attend our 1 day FREE Webinar on Sunday 13th July 2025 at 11.00 AM to 12:30 PM on Pre-Requisites for Residential Readiness\n\n\n\nRegister for Workshop \n \nAnurag Srivastava\n9214309551\n9116650158\n\n\nhttps://approachautism.in/wp-content/uploads/2025/07/VID_20250711_002238_257.mp4
URL:https://approachautism.in/event/how-to-break-myth/
LOCATION:Zoom Meet\, Approach Autism Society\, 27 - A\, Lane No. 1\, next to HP Petrol Pump\, near Vijay Dwar\, Guru Jhambeshwar Nagar A\, Vaishali Nagar\, Jaipur\, Rajasthan\, 302021\, India
CATEGORIES:Autism,Intellectual & Developmental Disability,neuro divergence,Support need
ATTACH;FMTTYPE=image/jpeg:https://approachautism.in/wp-content/uploads/2024/07/Sunday-Webinar-at-11-AM-Zoom.jpg
ORGANIZER;CN="Approach Autism Society":MAILTO:approach.autism@gmail.com
END:VEVENT
BEGIN:VEVENT
DTSTART;TZID=UTC:20240804T110000
DTEND;TZID=UTC:20240804T123000
DTSTAMP:20260420T191309
CREATED:20240728T101155Z
LAST-MODIFIED:20241026T071151Z
UID:22918-1722769200-1722774600@approachautism.in
SUMMARY:What After Us
DESCRIPTION:What After Us? Is this the question that ponders you? \nMs. Neena Wagh guiding us on “Pre- Requisites for Residential Readiness.”  Ms. Wagh is a parent of a support needs people with Autism\, a poet\, playwright\, and Hindi language translator. Founder Trustee of ALAP (Assisted Living for Autistic People) providing residential facilities and training for People with Autism. She has been actively involved in Autism Advocacy for the past 17 years. She has represented the Autism Community during the drafting of the RPWD Act. Spearheaded the team for setting up the Autism website for the National Trust. Focused on Assisted Living for special needs individuals for the past\nten years. Member of advisory boards for Action for Autism\, Bhabhna Trust\, and Neon Star Foundation. Awarded for her documentaries on disability issues and contributions in the field. Presented a workshop on Assisted Living in an\ninternational conference for Autism and Neurodevelopmental Disorders in Dubai in 2023. \nhttps://approachautism.in/wp-content/uploads/2024/07/What_After_Us.mp4\nClick Below and Fill the form to Attend our 1 day FREE Webinar on Sunday 4th Aug 2024 at 11.00 AM to 12:30 PM on Pre-Requisites for Residential Readiness \nRegister for Workshop \n \nAnurag Srivastava\n9214309551\n9116650158
URL:https://approachautism.in/event/what-after-us/
LOCATION:Zoom Meet\, Approach Autism Society\, 27 - A\, Lane No. 1\, next to HP Petrol Pump\, near Vijay Dwar\, Guru Jhambeshwar Nagar A\, Vaishali Nagar\, Jaipur\, Rajasthan\, 302021\, India
CATEGORIES:Autism,Intellectual & Developmental Disability,neuro divergence,Support need
ORGANIZER;CN="Approach Autism Society":MAILTO:approach.autism@gmail.com
END:VEVENT
END:VCALENDAR